BEGIN:VCALENDAR
VERSION:2.0
PRODID:-//Landesbetriebssportverband Schleswig-Holstein - ECPv6.3.1//NONSGML v1.0//EN
CALSCALE:GREGORIAN
METHOD:PUBLISH
X-ORIGINAL-URL:https://lbsv-sh.de
X-WR-CALDESC:Veranstaltungen für Landesbetriebssportverband Schleswig-Holstein
REFRESH-INTERVAL;VALUE=DURATION:PT1H
X-Robots-Tag:noindex
X-PUBLISHED-TTL:PT1H
BEGIN:VTIMEZONE
TZID:UTC
BEGIN:STANDARD
TZOFFSETFROM:+0000
TZOFFSETTO:+0000
TZNAME:UTC
DTSTART:20220101T000000
END:STANDARD
END:VTIMEZONE
BEGIN:VEVENT
DTSTART;VALUE=DATE:20220807
DTEND;VALUE=DATE:20220808
DTSTAMP:20260422T091604
CREATED:20220712T072702Z
LAST-MODIFIED:20220712T072702Z
UID:2560-1659830400-1659916799@lbsv-sh.de
SUMMARY:Hannover Open im Dart 07.08.2022
DESCRIPTION:Hannover Open Dart 07.08.2022 \nHannover Open Dart 2022 Plakat
URL:https://lbsv-sh.de/event/hannover-open-im-dart-07-08-2022
LOCATION:Hannover\, Ferdinand-Wilhelm-Fricke-Weg1\, Hannover\, 30169\, Deutschland
END:VEVENT
END:VCALENDAR