BEGIN:VCALENDAR
VERSION:2.0
PRODID:-//Landesbetriebssportverband Schleswig-Holstein - ECPv6.3.1//NONSGML v1.0//EN
CALSCALE:GREGORIAN
METHOD:PUBLISH
X-ORIGINAL-URL:https://lbsv-sh.de
X-WR-CALDESC:Veranstaltungen für Landesbetriebssportverband Schleswig-Holstein
REFRESH-INTERVAL;VALUE=DURATION:PT1H
X-Robots-Tag:noindex
X-PUBLISHED-TTL:PT1H
BEGIN:VTIMEZONE
TZID:UTC
BEGIN:STANDARD
TZOFFSETFROM:+0000
TZOFFSETTO:+0000
TZNAME:UTC
DTSTART:20220101T000000
END:STANDARD
END:VTIMEZONE
BEGIN:VEVENT
DTSTART;VALUE=DATE:20220619
DTEND;VALUE=DATE:20220620
DTSTAMP:20260422T120429
CREATED:20220428T084028Z
LAST-MODIFIED:20220428T084028Z
UID:2531-1655596800-1655683199@lbsv-sh.de
SUMMARY:DBM Sprinttriathlon am 19.06.2022 in Neunkirchen
DESCRIPTION:DBM Sprintthriathlon 19.06.2022
URL:https://lbsv-sh.de/event/dbm-sprinttriathlon-am-19-06-2022-in-neunkirchen
LOCATION:Neunkirchen\, Lakaienschäferei 1\, Neunkirchen\, 66538\, Deutschland
END:VEVENT
END:VCALENDAR