BEGIN:VCALENDAR
VERSION:2.0
PRODID:-//Landesbetriebssportverband Schleswig-Holstein - ECPv6.3.1//NONSGML v1.0//EN
CALSCALE:GREGORIAN
METHOD:PUBLISH
X-WR-CALNAME:Landesbetriebssportverband Schleswig-Holstein
X-ORIGINAL-URL:https://lbsv-sh.de
X-WR-CALDESC:Veranstaltungen für Landesbetriebssportverband Schleswig-Holstein
REFRESH-INTERVAL;VALUE=DURATION:PT1H
X-Robots-Tag:noindex
X-PUBLISHED-TTL:PT1H
BEGIN:VTIMEZONE
TZID:UTC
BEGIN:STANDARD
TZOFFSETFROM:+0000
TZOFFSETTO:+0000
TZNAME:UTC
DTSTART:20210101T000000
END:STANDARD
END:VTIMEZONE
BEGIN:VEVENT
DTSTART;VALUE=DATE:20211015
DTEND;VALUE=DATE:20211016
DTSTAMP:20260424T144320
CREATED:20210708T074334Z
LAST-MODIFIED:20210708T074334Z
UID:2245-1634256000-1634342399@lbsv-sh.de
SUMMARY:Deutsche Betriebssport-Fernschach-Einzelmeisterschaft 2021
DESCRIPTION:DBM Fernschach Einzel 15.10.2021 Ausschreibung
URL:https://lbsv-sh.de/event/deutsche-betriebssport-fernschach-einzelmeisterschaft-2021
END:VEVENT
END:VCALENDAR