BEGIN:VCALENDAR
VERSION:2.0
PRODID:-//Landesbetriebssportverband Schleswig-Holstein - ECPv6.3.1//NONSGML v1.0//EN
CALSCALE:GREGORIAN
METHOD:PUBLISH
X-WR-CALNAME:Landesbetriebssportverband Schleswig-Holstein
X-ORIGINAL-URL:https://lbsv-sh.de
X-WR-CALDESC:Veranstaltungen für Landesbetriebssportverband Schleswig-Holstein
REFRESH-INTERVAL;VALUE=DURATION:PT1H
X-Robots-Tag:noindex
X-PUBLISHED-TTL:PT1H
BEGIN:VTIMEZONE
TZID:UTC
BEGIN:STANDARD
TZOFFSETFROM:+0000
TZOFFSETTO:+0000
TZNAME:UTC
DTSTART:20220101T000000
END:STANDARD
END:VTIMEZONE
BEGIN:VEVENT
DTSTART;TZID=UTC:20221112T100000
DTEND;TZID=UTC:20221112T140000
DTSTAMP:20260420T105956
CREATED:20220922T090419Z
LAST-MODIFIED:20220922T090419Z
UID:2593-1668247200-1668261600@lbsv-sh.de
SUMMARY:Mannschaftsturnier des LBSV S-H in Lübeck
DESCRIPTION:Ausschreibung Mannschaftsturnier 2022 in Lübeck
URL:https://lbsv-sh.de/event/mannschaftsturnier-des-lbsv-s-h-in-luebeck
LOCATION:Lübeck\, Sportpark (Erlebniswelt) Hülshorst\, An der Hülshorst 11\, Lübeck\, 23568\, Deutschland
END:VEVENT
END:VCALENDAR