BEGIN:VCALENDAR
VERSION:2.0
PRODID:-//Landesbetriebssportverband Schleswig-Holstein - ECPv6.3.1//NONSGML v1.0//EN
CALSCALE:GREGORIAN
METHOD:PUBLISH
X-WR-CALNAME:Landesbetriebssportverband Schleswig-Holstein
X-ORIGINAL-URL:https://lbsv-sh.de
X-WR-CALDESC:Veranstaltungen für Landesbetriebssportverband Schleswig-Holstein
REFRESH-INTERVAL;VALUE=DURATION:PT1H
X-Robots-Tag:noindex
X-PUBLISHED-TTL:PT1H
BEGIN:VTIMEZONE
TZID:UTC
BEGIN:STANDARD
TZOFFSETFROM:+0000
TZOFFSETTO:+0000
TZNAME:UTC
DTSTART:20220101T000000
END:STANDARD
END:VTIMEZONE
BEGIN:VEVENT
DTSTART;VALUE=DATE:20220710
DTEND;VALUE=DATE:20220711
DTSTAMP:20260422T120224
CREATED:20220331T083029Z
LAST-MODIFIED:20220331T083029Z
UID:2518-1657411200-1657497599@lbsv-sh.de
SUMMARY:LBM Halbmarathon + 10km Lauf im Rahmen des 37. Pönitzer Volkslaufs
DESCRIPTION:Poenitzer-Volkslauf-2022-PlakatA4
URL:https://lbsv-sh.de/event/lbm-halbmarathon-10km-lauf-im-rahmen-des-37-poenitzer-volkslaufs
LOCATION:Pönitz\, Pönitz\, 23684\, Deutschland
END:VEVENT
END:VCALENDAR