BEGIN:VCALENDAR
VERSION:2.0
PRODID:-//Landesbetriebssportverband Schleswig-Holstein - ECPv6.3.1//NONSGML v1.0//EN
CALSCALE:GREGORIAN
METHOD:PUBLISH
X-ORIGINAL-URL:https://lbsv-sh.de
X-WR-CALDESC:Veranstaltungen für Landesbetriebssportverband Schleswig-Holstein
REFRESH-INTERVAL;VALUE=DURATION:PT1H
X-Robots-Tag:noindex
X-PUBLISHED-TTL:PT1H
BEGIN:VTIMEZONE
TZID:UTC
BEGIN:STANDARD
TZOFFSETFROM:+0000
TZOFFSETTO:+0000
TZNAME:UTC
DTSTART:20210101T000000
END:STANDARD
END:VTIMEZONE
BEGIN:VEVENT
DTSTART;VALUE=DATE:20211211
DTEND;VALUE=DATE:20211212
DTSTAMP:20260424T131734
CREATED:20210223T092347Z
LAST-MODIFIED:20210223T092347Z
UID:1873-1639180800-1639267199@lbsv-sh.de
SUMMARY:22. DBM Hallenfußball 2021 in Aschaffenburg
DESCRIPTION:22. DBM Hallenfußball 11.12.2021 \nAnmeldeformular DBM Hallenfussball 2021
URL:https://lbsv-sh.de/event/22-dbm-hallenfussball-2021-in-aschaffenburg
LOCATION:Aschaffenburg\, Sportweg 8\, Aschaffenburg\, 63743\, Deutschland
END:VEVENT
END:VCALENDAR