BEGIN:VCALENDAR
VERSION:2.0
PRODID:-//Landesbetriebssportverband Schleswig-Holstein - ECPv6.3.1//NONSGML v1.0//EN
CALSCALE:GREGORIAN
METHOD:PUBLISH
X-ORIGINAL-URL:https://lbsv-sh.de
X-WR-CALDESC:Veranstaltungen für Landesbetriebssportverband Schleswig-Holstein
REFRESH-INTERVAL;VALUE=DURATION:PT1H
X-Robots-Tag:noindex
X-PUBLISHED-TTL:PT1H
BEGIN:VTIMEZONE
TZID:UTC
BEGIN:STANDARD
TZOFFSETFROM:+0000
TZOFFSETTO:+0000
TZNAME:UTC
DTSTART:20210101T000000
END:STANDARD
END:VTIMEZONE
BEGIN:VEVENT
DTSTART;VALUE=DATE:20211115
DTEND;VALUE=DATE:20211116
DTSTAMP:20260424T144520
CREATED:20210708T074601Z
LAST-MODIFIED:20210708T074601Z
UID:2247-1636934400-1637020799@lbsv-sh.de
SUMMARY:Deutsche Betriebssport-Fernschach-Mannschaftsmeisterschaft 2021
DESCRIPTION:DBM Fernschach Mannschaft 15.11.2021 Ausschreibung \nDBM Fernschach Mannschaft Anmeldung
URL:https://lbsv-sh.de/event/deutsche-betriebssport-fernschach-mannschaftsmeisterschaft-2021
END:VEVENT
END:VCALENDAR